BEGIN:VCALENDAR
VERSION:2.0
PRODID:-//YM Link - ECPv6.15.20//NONSGML v1.0//EN
CALSCALE:GREGORIAN
METHOD:PUBLISH
X-ORIGINAL-URL:https://ymlink.org
X-WR-CALDESC:Events for YM Link
REFRESH-INTERVAL;VALUE=DURATION:PT1H
X-Robots-Tag:noindex
X-PUBLISHED-TTL:PT1H
BEGIN:VTIMEZONE
TZID:America/Chicago
BEGIN:DAYLIGHT
TZOFFSETFROM:-0600
TZOFFSETTO:-0500
TZNAME:CDT
DTSTART:20250309T080000
END:DAYLIGHT
BEGIN:STANDARD
TZOFFSETFROM:-0500
TZOFFSETTO:-0600
TZNAME:CST
DTSTART:20251102T070000
END:STANDARD
BEGIN:DAYLIGHT
TZOFFSETFROM:-0600
TZOFFSETTO:-0500
TZNAME:CDT
DTSTART:20260308T080000
END:DAYLIGHT
BEGIN:STANDARD
TZOFFSETFROM:-0500
TZOFFSETTO:-0600
TZNAME:CST
DTSTART:20261101T070000
END:STANDARD
BEGIN:DAYLIGHT
TZOFFSETFROM:-0600
TZOFFSETTO:-0500
TZNAME:CDT
DTSTART:20270314T080000
END:DAYLIGHT
BEGIN:STANDARD
TZOFFSETFROM:-0500
TZOFFSETTO:-0600
TZNAME:CST
DTSTART:20271107T070000
END:STANDARD
END:VTIMEZONE
BEGIN:VEVENT
DTSTART;TZID=America/Chicago:20260129T120000
DTEND;TZID=America/Chicago:20260131T120000
DTSTAMP:20260421T011643
CREATED:20250123T201403Z
LAST-MODIFIED:20251002T183535Z
UID:10000268-1769688000-1769860800@ymlink.org
SUMMARY:YM Conclave
DESCRIPTION:Conclave connects\, encourages\, and trains student ministry leaders from across the country\, with eight state Baptist conventions partnering together to lead the event. \nEach year\, we work in cooperation to provide a training event for youth pastors\, youth leaders\, and volunteers. Corporate worship\, breakout sessions\, and networking are designed to create a training conference to equip and rejuvenate your youth ministry team. \nLearn More & Register
URL:https://ymlink.org/calendar/ym-conclave/
LOCATION:Chattanooga Convention Center\, 1150 Carter St\, Chattanooga\, TN\, 37402\, United States
ATTACH;FMTTYPE=image/webp:https://ymlink.org/wp-content/uploads/2025/01/Conclave-Event-Slide.webp
ORGANIZER;CN="Josh Meadows":MAILTO:jmeadows@alsbom.org
END:VEVENT
END:VCALENDAR