BEGIN:VCALENDAR
VERSION:2.0
PRODID:-//YM Link - ECPv6.15.20//NONSGML v1.0//EN
CALSCALE:GREGORIAN
METHOD:PUBLISH
X-ORIGINAL-URL:https://ymlink.org
X-WR-CALDESC:Events for YM Link
REFRESH-INTERVAL;VALUE=DURATION:PT1H
X-Robots-Tag:noindex
X-PUBLISHED-TTL:PT1H
BEGIN:VTIMEZONE
TZID:America/Chicago
BEGIN:DAYLIGHT
TZOFFSETFROM:-0600
TZOFFSETTO:-0500
TZNAME:CDT
DTSTART:20250309T080000
END:DAYLIGHT
BEGIN:STANDARD
TZOFFSETFROM:-0500
TZOFFSETTO:-0600
TZNAME:CST
DTSTART:20251102T070000
END:STANDARD
BEGIN:DAYLIGHT
TZOFFSETFROM:-0600
TZOFFSETTO:-0500
TZNAME:CDT
DTSTART:20260308T080000
END:DAYLIGHT
BEGIN:STANDARD
TZOFFSETFROM:-0500
TZOFFSETTO:-0600
TZNAME:CST
DTSTART:20261101T070000
END:STANDARD
BEGIN:DAYLIGHT
TZOFFSETFROM:-0600
TZOFFSETTO:-0500
TZNAME:CDT
DTSTART:20270314T080000
END:DAYLIGHT
BEGIN:STANDARD
TZOFFSETFROM:-0500
TZOFFSETTO:-0600
TZNAME:CST
DTSTART:20271107T070000
END:STANDARD
END:VTIMEZONE
BEGIN:VEVENT
DTSTART;TZID=America/Chicago:20260622T150000
DTEND;TZID=America/Chicago:20260627T120000
DTSTAMP:20260420T235538
CREATED:20250819T163600Z
LAST-MODIFIED:20260415T213349Z
UID:10000280-1782140400-1782561600@ymlink.org
SUMMARY:On Mission
DESCRIPTION:On Mission brings together students and leaders from churches across the state to make a tangible difference in our own backyard! Join us to shine the light of Jesus through practical service and community outreach. \nWhat We’ll Do\nThis summer\, we will focus on one united week of ministry\, partnering with a Madison Baptist Association church and the surrounding community. Throughout the week\, mission teams will serve in three key areas instead of one area like times past: \n\nCommunity Outreach – Backyard Bible Clubs\, prayer walking\, canvassing\, and relational evangelism in the neighborhood.\nChurch Renovation – Strengthening and improving the partnering church to help expand its ministry.\nHome Renovation – Serving local families through needed repairs and improvements.\n\nRegister Here\n  \nImportant Details\nCost:\n$150/person \nDates and Deadlines:\nRegistration Deadline: March 1\, 2026\nGroup Information Due: May 14\, 2026\nTransportation Information Due: May 14\, 2026\nAttendee Forms Due: May 28\, 2026\nFinal Balances Due: May 28\, 2026 \nOn Mission Leadership Team\nYMlink: Josh Meadows\nRocket City Missions: Dr. Jon Hathcock\nCamp Director: TBA\nCamp Pastor: TBA\nWorship Leader: TBA
URL:https://ymlink.org/calendar/on-mission/
LOCATION:Bethlehem Baptist Church\, 1936 Elkwood Section Rd\, Hazel Green\, 35750\, United States
ATTACH;FMTTYPE=image/png:https://ymlink.org/wp-content/uploads/2026/01/Students-On-MIssion-Event.png
ORGANIZER;CN="Josh Meadows":MAILTO:jmeadows@alsbom.org
END:VEVENT
END:VCALENDAR