BEGIN:VCALENDAR
VERSION:2.0
PRODID:-//YM Link - ECPv6.15.20//NONSGML v1.0//EN
CALSCALE:GREGORIAN
METHOD:PUBLISH
X-ORIGINAL-URL:https://ymlink.org
X-WR-CALDESC:Events for YM Link
REFRESH-INTERVAL;VALUE=DURATION:PT1H
X-Robots-Tag:noindex
X-PUBLISHED-TTL:PT1H
BEGIN:VTIMEZONE
TZID:America/Chicago
BEGIN:DAYLIGHT
TZOFFSETFROM:-0600
TZOFFSETTO:-0500
TZNAME:CDT
DTSTART:20250309T080000
END:DAYLIGHT
BEGIN:STANDARD
TZOFFSETFROM:-0500
TZOFFSETTO:-0600
TZNAME:CST
DTSTART:20251102T070000
END:STANDARD
BEGIN:DAYLIGHT
TZOFFSETFROM:-0600
TZOFFSETTO:-0500
TZNAME:CDT
DTSTART:20260308T080000
END:DAYLIGHT
BEGIN:STANDARD
TZOFFSETFROM:-0500
TZOFFSETTO:-0600
TZNAME:CST
DTSTART:20261101T070000
END:STANDARD
BEGIN:DAYLIGHT
TZOFFSETFROM:-0600
TZOFFSETTO:-0500
TZNAME:CDT
DTSTART:20270314T080000
END:DAYLIGHT
BEGIN:STANDARD
TZOFFSETFROM:-0500
TZOFFSETTO:-0600
TZNAME:CST
DTSTART:20271107T070000
END:STANDARD
END:VTIMEZONE
BEGIN:VEVENT
DTSTART;TZID=America/Chicago:20260713T150000
DTEND;TZID=America/Chicago:20260717T120000
DTSTAMP:20260420T235536
CREATED:20250924T140950Z
LAST-MODIFIED:20250924T140950Z
UID:10000282-1783954800-1784289600@ymlink.org
SUMMARY:Super Summer Alabama 2026
DESCRIPTION:Super Summer is a leadership and discipleship camp for Alabama students who have completed the 7th – 12th grade where they are challenged to be the leader God has called them to be. Super Summer is where students begin to dig deeper in the word of God and own their faith. It is a place where they are not only discipled but challenged to go out and make disciples. Send your student’s to Super Summer because you want them to be encouraged and challenged by other believers from your youth group.
URL:https://ymlink.org/calendar/super-summer-alabama-2026/
LOCATION:University of Mobile\, 5735 College Pkwy\, Mobile\, 36613\, United States
ATTACH;FMTTYPE=image/webp:https://ymlink.org/wp-content/uploads/2024/04/Super-Summer-event-slide.webp
ORGANIZER;CN="Josh Meadows":MAILTO:jmeadows@alsbom.org
END:VEVENT
END:VCALENDAR