BEGIN:VCALENDAR
VERSION:2.0
PRODID:-//YM Link - ECPv6.15.20//NONSGML v1.0//EN
CALSCALE:GREGORIAN
METHOD:PUBLISH
X-ORIGINAL-URL:https://ymlink.org
X-WR-CALDESC:Events for YM Link
REFRESH-INTERVAL;VALUE=DURATION:PT1H
X-Robots-Tag:noindex
X-PUBLISHED-TTL:PT1H
BEGIN:VTIMEZONE
TZID:America/Chicago
BEGIN:DAYLIGHT
TZOFFSETFROM:-0600
TZOFFSETTO:-0500
TZNAME:CDT
DTSTART:20240310T080000
END:DAYLIGHT
BEGIN:STANDARD
TZOFFSETFROM:-0500
TZOFFSETTO:-0600
TZNAME:CST
DTSTART:20241103T070000
END:STANDARD
BEGIN:DAYLIGHT
TZOFFSETFROM:-0600
TZOFFSETTO:-0500
TZNAME:CDT
DTSTART:20250309T080000
END:DAYLIGHT
BEGIN:STANDARD
TZOFFSETFROM:-0500
TZOFFSETTO:-0600
TZNAME:CST
DTSTART:20251102T070000
END:STANDARD
BEGIN:DAYLIGHT
TZOFFSETFROM:-0600
TZOFFSETTO:-0500
TZNAME:CDT
DTSTART:20260308T080000
END:DAYLIGHT
BEGIN:STANDARD
TZOFFSETFROM:-0500
TZOFFSETTO:-0600
TZNAME:CST
DTSTART:20261101T070000
END:STANDARD
END:VTIMEZONE
BEGIN:VEVENT
DTSTART;TZID=America/Chicago:20251023T120000
DTEND;TZID=America/Chicago:20251023T140000
DTSTAMP:20260421T120644
CREATED:20250630T190000Z
LAST-MODIFIED:20250908T145954Z
UID:10000278-1761220800-1761228000@ymlink.org
SUMMARY:NextGen Lunch & Learn for Children's and Student Ministers - Dothan
DESCRIPTION:Join us for lunch\, a time of fellowship\, and roundtable discussions with ministry leaders in your age group area. We will discover some practical applications of AI in everyday ministry. The cost of the event is $10 and includes lunch.
URL:https://ymlink.org/calendar/nextgen-lunch-learn-for-kids-and-student-ministers-dothan/
ATTACH;FMTTYPE=image/jpeg:https://ymlink.org/wp-content/uploads/2025/08/Revised-Brand-Current-scaled.jpg
END:VEVENT
END:VCALENDAR