BEGIN:VCALENDAR
VERSION:2.0
PRODID:-//YM Link - ECPv6.15.20//NONSGML v1.0//EN
CALSCALE:GREGORIAN
METHOD:PUBLISH
X-ORIGINAL-URL:https://ymlink.org
X-WR-CALDESC:Events for YM Link
REFRESH-INTERVAL;VALUE=DURATION:PT1H
X-Robots-Tag:noindex
X-PUBLISHED-TTL:PT1H
BEGIN:VTIMEZONE
TZID:America/Chicago
BEGIN:DAYLIGHT
TZOFFSETFROM:-0600
TZOFFSETTO:-0500
TZNAME:CDT
DTSTART:20240310T080000
END:DAYLIGHT
BEGIN:STANDARD
TZOFFSETFROM:-0500
TZOFFSETTO:-0600
TZNAME:CST
DTSTART:20241103T070000
END:STANDARD
BEGIN:DAYLIGHT
TZOFFSETFROM:-0600
TZOFFSETTO:-0500
TZNAME:CDT
DTSTART:20250309T080000
END:DAYLIGHT
BEGIN:STANDARD
TZOFFSETFROM:-0500
TZOFFSETTO:-0600
TZNAME:CST
DTSTART:20251102T070000
END:STANDARD
BEGIN:DAYLIGHT
TZOFFSETFROM:-0600
TZOFFSETTO:-0500
TZNAME:CDT
DTSTART:20260308T080000
END:DAYLIGHT
BEGIN:STANDARD
TZOFFSETFROM:-0500
TZOFFSETTO:-0600
TZNAME:CST
DTSTART:20261101T070000
END:STANDARD
END:VTIMEZONE
BEGIN:VEVENT
DTSTART;TZID=America/Chicago:20250922T120000
DTEND;TZID=America/Chicago:20250922T140000
DTSTAMP:20260421T101512
CREATED:20250630T185746Z
LAST-MODIFIED:20250908T145902Z
UID:10000274-1758542400-1758549600@ymlink.org
SUMMARY:NextGen Lunch & Learn for Children's and Student Ministers - Mobile
DESCRIPTION:Join us for lunch\, a time of fellowship\, and roundtable discussions with ministry leaders in your age group area. We will discover some practical applications of AI in everyday ministry. The cost of the event is $10 and includes lunch.
URL:https://ymlink.org/calendar/nextgen-lunch-learn-for-kids-and-student-ministers-mobile/
ATTACH;FMTTYPE=image/jpeg:https://ymlink.org/wp-content/uploads/2025/08/Revised-Brand-Current-scaled.jpg
END:VEVENT
BEGIN:VEVENT
DTSTART;TZID=America/Chicago:20250923T120000
DTEND;TZID=America/Chicago:20250923T140000
DTSTAMP:20260421T101512
CREATED:20250630T185826Z
LAST-MODIFIED:20250908T145912Z
UID:10000275-1758628800-1758636000@ymlink.org
SUMMARY:NextGen Lunch & Learn for Children's and Student Ministers - Montgomery
DESCRIPTION:Join us for lunch\, a time of fellowship\, and roundtable discussions with ministry leaders in your age group area. We will discover some practical applications of AI in everyday ministry. The cost of the event is $10 and includes lunch.
URL:https://ymlink.org/calendar/nextgen-lunch-learn-for-kids-and-student-ministers-montgomery/
ATTACH;FMTTYPE=image/jpeg:https://ymlink.org/wp-content/uploads/2025/08/Revised-Brand-Current-scaled.jpg
END:VEVENT
BEGIN:VEVENT
DTSTART;TZID=America/Chicago:20250924T180000
DTEND;TZID=America/Chicago:20250924T200000
DTSTAMP:20260421T101512
CREATED:20250123T175706Z
LAST-MODIFIED:20250916T164304Z
UID:10000265-1758736800-1758744000@ymlink.org
SUMMARY:SPEAK Tour - Ozark
DESCRIPTION:SPEAK Tour is coming to an area near you! There will be fun outdoor games\, incredible worship\, and ultimately the gospel will be shared. SPEAK Tour is a perfect opportunity for students to invite their lost friends to hear and respond to the gospel! This is a free event. \nSpeaker: Bryan Drake\n \n  \nBand: Ryan John Band
URL:https://ymlink.org/calendar/speak-tour-ozark-3/
LOCATION:Ridgecrest Baptist Church\, 1971 Deese Road\, Ozark\, AL\, 36360\, United States
ATTACH;FMTTYPE=image/webp:https://ymlink.org/wp-content/uploads/2023/04/Speak-Tour-Web.webp
END:VEVENT
BEGIN:VEVENT
DTSTART;TZID=America/Chicago:20250925T090000
DTEND;TZID=America/Chicago:20250925T100000
DTSTAMP:20260421T101512
CREATED:20250123T173143Z
LAST-MODIFIED:20251008T144015Z
UID:10000252-1758790800-1758794400@ymlink.org
SUMMARY:Unwind Weekly Chat
DESCRIPTION:Calling all youth leaders. We would love to connect and network with you every Thursday morning. Jump on our Zoom call to discuss what God is doing in youth ministries all around the state of Alabama. We start at 9 AM so join us and be ready to answer a couple of questions about the ministry God has entrusted you to lead.\n\nRegister to receive the Zoom call link: ymlink.org/unwind-signup\n  \n\n2025 Dates:\nJanuary 30\nFebruary 6\, 13\, 20\, 27\nMarch 6\, 13\, 20\, 27\nApril 3\, 10\, 17\, 24\nMay 1\, 8\, 15\nAugust 21\, 28\nSeptember 4\, 11\, 18\, 25\nOctober 2\, 9\, 16\, 23\, 30\nNovember 6\, 13\, 20\nDecember 4
URL:https://ymlink.org/calendar/unwind-weekly-chat-6/2025-09-25/
LOCATION:Online
ATTACH;FMTTYPE=image/webp:https://ymlink.org/wp-content/uploads/2023/04/Unwind-Web-Graphic.webp
ORGANIZER;CN="Josh Meadows":MAILTO:jmeadows@alsbom.org
END:VEVENT
END:VCALENDAR