BEGIN:VCALENDAR
VERSION:2.0
PRODID:-//YM Link - ECPv6.15.20//NONSGML v1.0//EN
CALSCALE:GREGORIAN
METHOD:PUBLISH
X-ORIGINAL-URL:https://ymlink.org
X-WR-CALDESC:Events for YM Link
REFRESH-INTERVAL;VALUE=DURATION:PT1H
X-Robots-Tag:noindex
X-PUBLISHED-TTL:PT1H
BEGIN:VTIMEZONE
TZID:America/Chicago
BEGIN:DAYLIGHT
TZOFFSETFROM:-0600
TZOFFSETTO:-0500
TZNAME:CDT
DTSTART:20230312T080000
END:DAYLIGHT
BEGIN:STANDARD
TZOFFSETFROM:-0500
TZOFFSETTO:-0600
TZNAME:CST
DTSTART:20231105T070000
END:STANDARD
BEGIN:DAYLIGHT
TZOFFSETFROM:-0600
TZOFFSETTO:-0500
TZNAME:CDT
DTSTART:20240310T080000
END:DAYLIGHT
BEGIN:STANDARD
TZOFFSETFROM:-0500
TZOFFSETTO:-0600
TZNAME:CST
DTSTART:20241103T070000
END:STANDARD
BEGIN:DAYLIGHT
TZOFFSETFROM:-0600
TZOFFSETTO:-0500
TZNAME:CDT
DTSTART:20250309T080000
END:DAYLIGHT
BEGIN:STANDARD
TZOFFSETFROM:-0500
TZOFFSETTO:-0600
TZNAME:CST
DTSTART:20251102T070000
END:STANDARD
END:VTIMEZONE
BEGIN:VEVENT
DTSTART;TZID=America/Chicago:20240414T130000
DTEND;TZID=America/Chicago:20240417T151500
DTSTAMP:20260421T131436
CREATED:20240111T221926Z
LAST-MODIFIED:20240401T141420Z
UID:10000182-1713099600-1713366900@ymlink.org
SUMMARY:Youth Pastors Summit - Orlando
DESCRIPTION:We invite you to join YMLink and youth ministry leaders from across Alabama at Youth Pastor Summit 2024. YPS is a conference designed to motivate\, inspire\, and equip every leader who invests in the lives of the next generation. \nRegister for YPS through YMlink and pay only $85. This includes the cost of the conference\, transportation to and from the conference\, and hotel lodging during the conference. Please plan to cover your meals and any other expenses that may arise. \nTwo date/location options are being offered. Just pick the one that works best for you and register today. \nFor more information about YPS\, visit their website at: https://slulead.com/yps/. \nRegistration Deadline: March 29\, 2024 \nREGISTRATION HAS CLOSED FOR THIS EVENT.
URL:https://ymlink.org/calendar/youth-pastors-summit-orlando/
LOCATION:First Baptist Church\, Orlando\, 3000 S. John Young Pkwy\, Orlando\, FL\, 32805\, United States
ATTACH;FMTTYPE=image/webp:https://ymlink.org/wp-content/uploads/2024/01/YPS-Graphic.webp
ORGANIZER;CN="Josh Meadows":MAILTO:jmeadows@alsbom.org
END:VEVENT
END:VCALENDAR