BEGIN:VCALENDAR
VERSION:2.0
PRODID:-//YM Link - ECPv6.15.20//NONSGML v1.0//EN
CALSCALE:GREGORIAN
METHOD:PUBLISH
X-ORIGINAL-URL:https://ymlink.org
X-WR-CALDESC:Events for YM Link
REFRESH-INTERVAL;VALUE=DURATION:PT1H
X-Robots-Tag:noindex
X-PUBLISHED-TTL:PT1H
BEGIN:VTIMEZONE
TZID:America/Chicago
BEGIN:DAYLIGHT
TZOFFSETFROM:-0600
TZOFFSETTO:-0500
TZNAME:CDT
DTSTART:20220313T080000
END:DAYLIGHT
BEGIN:STANDARD
TZOFFSETFROM:-0500
TZOFFSETTO:-0600
TZNAME:CST
DTSTART:20221106T070000
END:STANDARD
BEGIN:DAYLIGHT
TZOFFSETFROM:-0600
TZOFFSETTO:-0500
TZNAME:CDT
DTSTART:20230312T080000
END:DAYLIGHT
BEGIN:STANDARD
TZOFFSETFROM:-0500
TZOFFSETTO:-0600
TZNAME:CST
DTSTART:20231105T070000
END:STANDARD
BEGIN:DAYLIGHT
TZOFFSETFROM:-0600
TZOFFSETTO:-0500
TZNAME:CDT
DTSTART:20240310T080000
END:DAYLIGHT
BEGIN:STANDARD
TZOFFSETFROM:-0500
TZOFFSETTO:-0600
TZNAME:CST
DTSTART:20241103T070000
END:STANDARD
END:VTIMEZONE
BEGIN:VEVENT
DTSTART;TZID=America/Chicago:20231116T090000
DTEND;TZID=America/Chicago:20231116T140000
DTSTAMP:20260421T184340
CREATED:20231106T222507Z
LAST-MODIFIED:20251008T143015Z
UID:10000140-1700125200-1700143200@ymlink.org
SUMMARY:Unwind All Day - Trussville
DESCRIPTION:On this day\, instead of our regular online weekly Zoom call\, we will meet together in person for a time of networking\, fellowship\, and encouragement. Come ready to join in the discussion\, sharing about your ministry and needs as well as offering encouragement and support to other ministry leaders from across Alabama.
URL:https://ymlink.org/calendar/unwind-all-day-trussville/
LOCATION:First Baptist Church\, Trussville\, 128 N Chalkville Rd\, Trussville\, AL\, 35173\, United States
ATTACH;FMTTYPE=image/webp:https://ymlink.org/wp-content/uploads/2023/11/Unwind-all-day-Web-Graphic.webp
ORGANIZER;CN="Josh Meadows":MAILTO:jmeadows@alsbom.org
END:VEVENT
END:VCALENDAR