BEGIN:VCALENDAR
VERSION:2.0
PRODID:-//YM Link - ECPv6.15.20//NONSGML v1.0//EN
CALSCALE:GREGORIAN
METHOD:PUBLISH
X-ORIGINAL-URL:https://ymlink.org
X-WR-CALDESC:Events for YM Link
REFRESH-INTERVAL;VALUE=DURATION:PT1H
X-Robots-Tag:noindex
X-PUBLISHED-TTL:PT1H
BEGIN:VTIMEZONE
TZID:America/Chicago
BEGIN:DAYLIGHT
TZOFFSETFROM:-0600
TZOFFSETTO:-0500
TZNAME:CDT
DTSTART:20220313T080000
END:DAYLIGHT
BEGIN:STANDARD
TZOFFSETFROM:-0500
TZOFFSETTO:-0600
TZNAME:CST
DTSTART:20221106T070000
END:STANDARD
BEGIN:DAYLIGHT
TZOFFSETFROM:-0600
TZOFFSETTO:-0500
TZNAME:CDT
DTSTART:20230312T080000
END:DAYLIGHT
BEGIN:STANDARD
TZOFFSETFROM:-0500
TZOFFSETTO:-0600
TZNAME:CST
DTSTART:20231105T070000
END:STANDARD
BEGIN:DAYLIGHT
TZOFFSETFROM:-0600
TZOFFSETTO:-0500
TZNAME:CDT
DTSTART:20240310T080000
END:DAYLIGHT
BEGIN:STANDARD
TZOFFSETFROM:-0500
TZOFFSETTO:-0600
TZNAME:CST
DTSTART:20241103T070000
END:STANDARD
END:VTIMEZONE
BEGIN:VEVENT
DTSTART;TZID=America/Chicago:20230612T080000
DTEND;TZID=America/Chicago:20230617T120000
DTSTAMP:20260420T053435
CREATED:20220317T151039Z
LAST-MODIFIED:20250224T165526Z
UID:10000092-1686556800-1687003200@ymlink.org
SUMMARY:YMlink on Mission: Huntsville
DESCRIPTION:With YM Link on Mission your students will work each day on homes in the community of Huntsville\, Alabama\, to complete projects of painting\, minor repairs\, and building projects during the day and experience worship services at night. Students will be divided up into crews of 10-12 students and given specific tasks and job responsibilities to be fulfilled on their job site. Through their daily interactions with other students from different churches\, their homeowner\, and the people in their neighborhood students will learn how to: Build deeper relationships with one another; Share their testimony with confidence; Become active servants and missionaries in their own community; Grow spiritually; Endure patience and flexibility. \nRegister your group below. Deadline to Register: May 1\, 2023 \nCost: $100 per student. \nIf paying by check\, please mail checks to: \nAlabama Baptist State Board of Missions\nAttn: Jessica Palmer\nP.O. Box 681970\nPrattville\, AL 36068-1970 \nFinal Balances Due: May 30\, 2023 \n  \nDiscipleship with: Terrance Andrews              Worship with: Ryan John Band \n                                \nOn Mission Director: Drake Whitten \n \n  \nDownload Schedule \nWhat to Bring  \nAdditional Forms: \nGroup Information Form \n\n\n\nThis form to be completed by the group leader.\nDue Date: May 8\, 2023\n\n\n\nGroup Transportation Form \n\n\n\nThis form to be completed by the group leader.\nDue Date: May 30\, 2023\n\n\n\nParticipant Application Form \n\n\n\nThis form to be completed by all participants.\n(For participants under age 18\, the form must be completed by a parent or guardian.)\nDue Date: May 30\, 2023\n\n\n\n\n\n\n\nFill out my online form.\n\n  Fill out my Wufoo form!
URL:https://ymlink.org/calendar/ymlink-on-mission-huntsville-2/
LOCATION:House of Hope & Restoration Church\, 2525 Aspen Ave NW\, Huntsville\, AL\, 35810\, United States
ATTACH;FMTTYPE=image/webp:https://ymlink.org/wp-content/uploads/2022/03/YMLink-event-slides-2.webp
ORGANIZER;CN="Josh Meadows":MAILTO:jmeadows@alsbom.org
END:VEVENT
END:VCALENDAR