BEGIN:VCALENDAR
VERSION:2.0
PRODID:-//YM Link - ECPv6.15.20//NONSGML v1.0//EN
CALSCALE:GREGORIAN
METHOD:PUBLISH
X-ORIGINAL-URL:https://ymlink.org
X-WR-CALDESC:Events for YM Link
REFRESH-INTERVAL;VALUE=DURATION:PT1H
X-Robots-Tag:noindex
X-PUBLISHED-TTL:PT1H
BEGIN:VTIMEZONE
TZID:America/Chicago
BEGIN:DAYLIGHT
TZOFFSETFROM:-0600
TZOFFSETTO:-0500
TZNAME:CDT
DTSTART:20230312T080000
END:DAYLIGHT
BEGIN:STANDARD
TZOFFSETFROM:-0500
TZOFFSETTO:-0600
TZNAME:CST
DTSTART:20231105T070000
END:STANDARD
BEGIN:DAYLIGHT
TZOFFSETFROM:-0600
TZOFFSETTO:-0500
TZNAME:CDT
DTSTART:20240310T080000
END:DAYLIGHT
BEGIN:STANDARD
TZOFFSETFROM:-0500
TZOFFSETTO:-0600
TZNAME:CST
DTSTART:20241103T070000
END:STANDARD
BEGIN:DAYLIGHT
TZOFFSETFROM:-0600
TZOFFSETTO:-0500
TZNAME:CDT
DTSTART:20250309T080000
END:DAYLIGHT
BEGIN:STANDARD
TZOFFSETFROM:-0500
TZOFFSETTO:-0600
TZNAME:CST
DTSTART:20251102T070000
END:STANDARD
END:VTIMEZONE
BEGIN:VEVENT
DTSTART;TZID=America/Chicago:20240313T183000
DTEND;TZID=America/Chicago:20240313T203000
DTSTAMP:20260421T054404
CREATED:20240215T223015Z
LAST-MODIFIED:20250224T153103Z
UID:10000183-1710354600-1710361800@ymlink.org
SUMMARY:SPEAK Tour - Troy
DESCRIPTION:SPEAK Tour is coming to an area near you! There will be fun outdoor games\, incredible worship\, and ultimately the gospel will be shared. This event is a perfect opportunity for students to invite their lost friends to hear and respond to the gospel! Admission is free. No pre-registration required.\n  \nSpeaker: Bryan Drake
URL:https://ymlink.org/calendar/speak-tour-troy/
LOCATION:Southside Baptist Church – Troy\, 522 S Brundidge St\, Troy\, AL\, 36081\, United States
ATTACH;FMTTYPE=image/webp:https://ymlink.org/wp-content/uploads/2023/04/Speak-Tour-Web.webp
ORGANIZER;CN="Josh Meadows":MAILTO:jmeadows@alsbom.org
END:VEVENT
END:VCALENDAR