BEGIN:VCALENDAR
VERSION:2.0
PRODID:-//YM Link - ECPv6.15.20//NONSGML v1.0//EN
CALSCALE:GREGORIAN
METHOD:PUBLISH
X-ORIGINAL-URL:https://ymlink.org
X-WR-CALDESC:Events for YM Link
REFRESH-INTERVAL;VALUE=DURATION:PT1H
X-Robots-Tag:noindex
X-PUBLISHED-TTL:PT1H
BEGIN:VTIMEZONE
TZID:America/Chicago
BEGIN:DAYLIGHT
TZOFFSETFROM:-0600
TZOFFSETTO:-0500
TZNAME:CDT
DTSTART:20230312T080000
END:DAYLIGHT
BEGIN:STANDARD
TZOFFSETFROM:-0500
TZOFFSETTO:-0600
TZNAME:CST
DTSTART:20231105T070000
END:STANDARD
BEGIN:DAYLIGHT
TZOFFSETFROM:-0600
TZOFFSETTO:-0500
TZNAME:CDT
DTSTART:20240310T080000
END:DAYLIGHT
BEGIN:STANDARD
TZOFFSETFROM:-0500
TZOFFSETTO:-0600
TZNAME:CST
DTSTART:20241103T070000
END:STANDARD
BEGIN:DAYLIGHT
TZOFFSETFROM:-0600
TZOFFSETTO:-0500
TZNAME:CDT
DTSTART:20250309T080000
END:DAYLIGHT
BEGIN:STANDARD
TZOFFSETFROM:-0500
TZOFFSETTO:-0600
TZNAME:CST
DTSTART:20251102T070000
END:STANDARD
END:VTIMEZONE
BEGIN:VEVENT
DTSTART;TZID=America/Chicago:20241112T114500
DTEND;TZID=America/Chicago:20241112T130000
DTSTAMP:20260421T001344
CREATED:20240821T164538Z
LAST-MODIFIED:20240906T152535Z
UID:10000191-1731411900-1731416400@ymlink.org
SUMMARY:Youth Minister Luncheon
DESCRIPTION:YMlink would like to invite all Alabama Youth Ministers to enjoy a free lunch during the 2024 Alabama Baptist Convention. This will be a great time to get to know other youth ministers from across the state and learn more about how YMlink can support and serve you in ministry. There is no charge. \n\nFill out my online form.\n\n  Fill out my Wufoo form!
URL:https://ymlink.org/calendar/youth-ministers-lunch-2/
LOCATION:The Waterfront\, 1 Yacht Club Dr.\, Daphne\, AL\, 36526\, United States
ATTACH;FMTTYPE=image/webp:https://ymlink.org/wp-content/uploads/2024/08/YM-Lunch-Graphic.webp
ORGANIZER;CN="Josh Meadows":MAILTO:jmeadows@alsbom.org
END:VEVENT
END:VCALENDAR